BEGIN:VCALENDAR
VERSION:2.0
PRODID:-//Master Gardener Foundation of Grays Harbor and Pacific Counties - ECPv6.15.20//NONSGML v1.0//EN
CALSCALE:GREGORIAN
METHOD:PUBLISH
X-ORIGINAL-URL:https://pnwmg.mastergardenerfoundation.org
X-WR-CALDESC:Events for Master Gardener Foundation of Grays Harbor and Pacific Counties
REFRESH-INTERVAL;VALUE=DURATION:PT1H
X-Robots-Tag:noindex
X-PUBLISHED-TTL:PT1H
BEGIN:VTIMEZONE
TZID:America/Los_Angeles
BEGIN:DAYLIGHT
TZOFFSETFROM:-0800
TZOFFSETTO:-0700
TZNAME:PDT
DTSTART:20230312T100000
END:DAYLIGHT
BEGIN:STANDARD
TZOFFSETFROM:-0700
TZOFFSETTO:-0800
TZNAME:PST
DTSTART:20231105T090000
END:STANDARD
BEGIN:DAYLIGHT
TZOFFSETFROM:-0800
TZOFFSETTO:-0700
TZNAME:PDT
DTSTART:20240310T100000
END:DAYLIGHT
BEGIN:STANDARD
TZOFFSETFROM:-0700
TZOFFSETTO:-0800
TZNAME:PST
DTSTART:20241103T090000
END:STANDARD
BEGIN:DAYLIGHT
TZOFFSETFROM:-0800
TZOFFSETTO:-0700
TZNAME:PDT
DTSTART:20250309T100000
END:DAYLIGHT
BEGIN:STANDARD
TZOFFSETFROM:-0700
TZOFFSETTO:-0800
TZNAME:PST
DTSTART:20251102T090000
END:STANDARD
BEGIN:DAYLIGHT
TZOFFSETFROM:-0800
TZOFFSETTO:-0700
TZNAME:PDT
DTSTART:20260308T100000
END:DAYLIGHT
BEGIN:STANDARD
TZOFFSETFROM:-0700
TZOFFSETTO:-0800
TZNAME:PST
DTSTART:20261101T090000
END:STANDARD
END:VTIMEZONE
BEGIN:VEVENT
DTSTART;TZID=America/Los_Angeles:20250518T120000
DTEND;TZID=America/Los_Angeles:20250518T160000
DTSTAMP:20260423T221726
CREATED:20250115T220118Z
LAST-MODIFIED:20250115T221721Z
UID:10002996-1747569600-1747584000@pnwmg.mastergardenerfoundation.org
SUMMARY:Plant Clinic - Home and Garden Show
DESCRIPTION:3 /29 hoquim library 10am-2pm\n4 / 5 west port winery mermaid festival 10am -2pm\n4 / 12 west port winery mermaid festival 10am-2pm\n4 / 19 west port winery mermaid festival 10am-2pm\n4 / 25 west port winery mermaid festival 10am-2pm\n5 / 10 home depot aberdeen 9am-4pm\n5 / 10 bay view lumber elma 10am-2pm\n5 / 10 mg plant sale 86 rustemeyer rd 9am-3pm\n5 / 17 home and garden show 10am-5pm\n5 / 18 home and garden show 10am-4pm \n 
URL:https://pnwmg.mastergardenerfoundation.org/event/plant-clinic-home-and-garden-show/
LOCATION:Grays Harbor County Fairgrounds – Dog Barn\, 32 Elma McCleary Rd\, Elma\, WA\, 98541\, United States
CATEGORIES:Volunteer
ORGANIZER;CN="Scott and Lou Clark":MAILTO:northwoods1105@gmail.com
END:VEVENT
BEGIN:VEVENT
DTSTART;TZID=America/Los_Angeles:20250517T080000
DTEND;TZID=America/Los_Angeles:20250517T170000
DTSTAMP:20260423T221726
CREATED:20250115T220246Z
LAST-MODIFIED:20250115T220246Z
UID:10002992-1747468800-1747501200@pnwmg.mastergardenerfoundation.org
SUMMARY:Plant Clinic - Elma Home and Garden Show
DESCRIPTION:3 /29 hoquim library 10am-2pm\n4 / 5 west port winery mermaid festival 10am -2pm\n4 / 12 west port winery mermaid festival 10am-2pm\n4 / 19 west port winery mermaid festival 10am-2pm\n4 / 25 west port winery mermaid festival 10am-2pm\n5 / 10 home depot aberdeen 9am-4pm\n5 / 10 bay view lumber elma 10am-2pm\n5 / 10 mg plant sale 86 rustemeyer rd 9am-3pm\n5 / 17 home and garden show 10am-5pm\n5 / 18 home and garden show 10am-4pm \n 
URL:https://pnwmg.mastergardenerfoundation.org/event/plant-clinic-elma-hg-show-2/
LOCATION:Grays Harbor County Fairgrounds – Dog Barn\, 32 Elma McCleary Rd\, Elma\, WA\, 98541\, United States
CATEGORIES:Volunteer
ORGANIZER;CN="Scott and Lou Clark":MAILTO:northwoods1105@gmail.com
END:VEVENT
BEGIN:VEVENT
DTSTART;TZID=America/Los_Angeles:20250510T090000
DTEND;TZID=America/Los_Angeles:20250510T150000
DTSTAMP:20260423T221726
CREATED:20250115T215109Z
LAST-MODIFIED:20250115T215652Z
UID:10002990-1746867600-1746889200@pnwmg.mastergardenerfoundation.org
SUMMARY:Plant Clinic - at MG Plant Sale
DESCRIPTION:3 /29 hoquim library 10am-2pm\n4 / 5 west port winery mermaid festival 10am -2pm\n4 / 12 west port winery mermaid festival 10am-2pm\n4 / 19 west port winery mermaid festival 10am-2pm\n4 / 25 west port winery mermaid festival 10am-2pm\n5 / 10 home depot aberdeen 9am-4pm\n5 / 10 bay view lumber elma 10am-2pm\n5 / 10 mg plant sale 86 rustemeyer rd 9am-3pm\n5 / 17 home and garden show 10am-5pm\n5 / 18 home and garden show 10am-4pm \n 
URL:https://pnwmg.mastergardenerfoundation.org/event/mg-plant-sale/
LOCATION:Greenhouse at Rustemeyer Road\, 86 Rustemeyer Road\, Aberdeen\, WA\, 98520\, United States
CATEGORIES:Volunteer
ORGANIZER;CN="Scott and Lou Clark":MAILTO:northwoods1105@gmail.com
END:VEVENT
BEGIN:VEVENT
DTSTART;TZID=America/Los_Angeles:20250510T080000
DTEND;TZID=America/Los_Angeles:20250510T170000
DTSTAMP:20260423T221726
CREATED:20250115T214506Z
LAST-MODIFIED:20250115T214507Z
UID:10002931-1746864000-1746896400@pnwmg.mastergardenerfoundation.org
SUMMARY:Plant Clinic - Aberdeen
DESCRIPTION:3\29 hoquim library 10am-2pm\n4\5 west port winery mermaid festival 10am -2pm\n4\12 west port winery mermaid festival 10am-2pm\n4\19 west port winery mermaid festival 10am-2pm\n4\25 west port winery mermaid festival 10am-2pm\n5\10 home depot aberdeen 9am-4pm\n5\10 bay view lumber elma 10am-2pm\n5\10 mg plant sale 86 rustemeyer rd 9am-3pm\n5\17 home and garden show 10am-5pm\n5\18 home and garden show 10am-4pm \n 
URL:https://pnwmg.mastergardenerfoundation.org/event/plant-clinic-7-2/
LOCATION:Home Depot – Aberdeen\, 2213 Port Industrial Road\, Aberdeen\, 98520\, United States
CATEGORIES:Volunteer
ORGANIZER;CN="Scott and Lou Clark":MAILTO:northwoods1105@gmail.com
END:VEVENT
BEGIN:VEVENT
DTSTART;TZID=America/Los_Angeles:20250510T080000
DTEND;TZID=America/Los_Angeles:20250510T170000
DTSTAMP:20260423T221726
CREATED:20250115T214341Z
LAST-MODIFIED:20250115T214341Z
UID:10002989-1746864000-1746896400@pnwmg.mastergardenerfoundation.org
SUMMARY:Plant Clinic - Elma
DESCRIPTION:3/29 hoquim library 10am-2pm\n4/5 west port winery mermaid festival 10am -2pm\n4/12 west port winery mermaid festival 10am-2pm\n4/19 west port winery mermaid festival 10am-2pm\n4/25 west port winery mermaid festival 10am-2pm\n5/10 home depot aberdeen 9am-4pm\n5/10 bay view lumber elma 10am-2pm\n5/10 mg plant sale 86 rustemeyer rd 9am-3pm\n5/17 home and garden show 10am-5pm\n5/18 home and garden show 10am-4pm
URL:https://pnwmg.mastergardenerfoundation.org/event/plant-clinic-8-2/
LOCATION:Bayview Building Material – Elma\, 620 E Young St.\, Elma\, WA\, 98541\, United States
CATEGORIES:Volunteer
ORGANIZER;CN="Scott and Lou Clark":MAILTO:northwoods1105@gmail.com
END:VEVENT
BEGIN:VEVENT
DTSTART;TZID=America/Los_Angeles:20250426T120000
DTEND;TZID=America/Los_Angeles:20250426T160000
DTSTAMP:20260423T221726
CREATED:20250116T001839Z
LAST-MODIFIED:20250116T060043Z
UID:10003001-1745668800-1745683200@pnwmg.mastergardenerfoundation.org
SUMMARY:Plant Clinic - Wesport Mermaid Museum
DESCRIPTION:contact lou to schedule \n\n\n\n3 / 29 hoquim library 10am-2pm\n4 / 5 west port winery mermaid festival 12 – 4\n4 / 12 west port winery mermaid festival 12 – 4\n4 / 19 west port winery mermaid festival 12 – 4\n4 / 26 west port winery mermaid festival 12 – 4\n5 / 10 home depot aberdeen 9am-4pm\n5 / 10 bay view lumber elma 10am-2pm\n5 / 10 mg plant sale 86 rustemeyer rd 9am-3pm\n5 / 17 home and garden show 10am-5pm\n5 / 18 home and garden show 10am-4pm
URL:https://pnwmg.mastergardenerfoundation.org/event/plant-clinic-wesport-mermaid-museum-5/
LOCATION:Westport Winery\, 1 South Arbor Road\, Aberdeen\, WA\, United States
CATEGORIES:Volunteer
ORGANIZER;CN="Scott and Lou Clark":MAILTO:northwoods1105@gmail.com
END:VEVENT
BEGIN:VEVENT
DTSTART;TZID=America/Los_Angeles:20250419T120000
DTEND;TZID=America/Los_Angeles:20250419T160000
DTSTAMP:20260423T221726
CREATED:20250116T001242Z
LAST-MODIFIED:20250116T060344Z
UID:10002999-1745064000-1745078400@pnwmg.mastergardenerfoundation.org
SUMMARY:Plant Clinic - Wesport Mermaid Museum
DESCRIPTION:contact lou to schedule \n3 / 29 hoquim library 10am-2pm\n4 / 5 west port winery mermaid festival 12 – 4\n4 / 12 west port winery mermaid festival 12 – 4\n4 / 19 west port winery mermaid festival 12 – 4\n4 / 26 west port winery mermaid festival 12 – 4\n5 / 10 home depot aberdeen 9am-4pm\n5 / 10 bay view lumber elma 10am-2pm\n5 / 10 mg plant sale 86 rustemeyer rd 9am-3pm\n5 / 17 home and garden show 10am-5pm\n5 / 18 home and garden show 10am-4pm \n 
URL:https://pnwmg.mastergardenerfoundation.org/event/plant-clinic-wesport-mermaid-museum-3/
LOCATION:Westport Winery\, 1 South Arbor Road\, Aberdeen\, WA\, United States
CATEGORIES:Volunteer
ORGANIZER;CN="Scott and Lou Clark":MAILTO:northwoods1105@gmail.com
END:VEVENT
BEGIN:VEVENT
DTSTART;TZID=America/Los_Angeles:20250412T120000
DTEND;TZID=America/Los_Angeles:20250412T160000
DTSTAMP:20260423T221726
CREATED:20250116T001115Z
LAST-MODIFIED:20250116T060256Z
UID:10002998-1744459200-1744473600@pnwmg.mastergardenerfoundation.org
SUMMARY:Plant Clinic - Wesport Mermaid Museum
DESCRIPTION:contact lou to schedule \n3 / 29 hoquim library 10am-2pm\n4 / 5 west port winery mermaid festival 12 – 4\n4 / 12 west port winery mermaid festival 12 – 4\n4 / 19 west port winery mermaid festival 12 – 4\n4 / 26 west port winery mermaid festival 12 – 4\n5 / 10 home depot aberdeen 9am-4pm\n5 / 10 bay view lumber elma 10am-2pm\n5 / 10 mg plant sale 86 rustemeyer rd 9am-3pm\n5 / 17 home and garden show 10am-5pm\n5 / 18 home and garden show 10am-4pm \n 
URL:https://pnwmg.mastergardenerfoundation.org/event/plant-clinic-wesport-mermaid-museum-2/
LOCATION:Westport Winery\, 1 South Arbor Road\, Aberdeen\, WA\, United States
CATEGORIES:Volunteer
ORGANIZER;CN="Scott and Lou Clark":MAILTO:northwoods1105@gmail.com
END:VEVENT
BEGIN:VEVENT
DTSTART;TZID=America/Los_Angeles:20250405T120000
DTEND;TZID=America/Los_Angeles:20250405T160000
DTSTAMP:20260423T221726
CREATED:20250116T000555Z
LAST-MODIFIED:20250116T060143Z
UID:10002997-1743854400-1743868800@pnwmg.mastergardenerfoundation.org
SUMMARY:Plant Clinic - Wesport Mermaid Museum
DESCRIPTION:contact lou to schedule \n3 / 29 hoquim library 10am-2pm\n4 / 5 west port winery mermaid festival 12 – 4\n4 / 12 west port winery mermaid festival 12 – 4\n4 / 19 west port winery mermaid festival 12 – 4\n4 / 26 west port winery mermaid festival 12 – 4\n5 / 10 home depot aberdeen 9am-4pm\n5 / 10 bay view lumber elma 10am-2pm\n5 / 10 mg plant sale 86 rustemeyer rd 9am-3pm\n5 / 17 home and garden show 10am-5pm\n5 / 18 home and garden show 10am-4pm \n 
URL:https://pnwmg.mastergardenerfoundation.org/event/plant-clinic-wesport-mermaid-museum/
LOCATION:Westport Winery\, 1 South Arbor Road\, Aberdeen\, WA\, United States
CATEGORIES:Volunteer
ORGANIZER;CN="Scott and Lou Clark":MAILTO:northwoods1105@gmail.com
END:VEVENT
BEGIN:VEVENT
DTSTART;TZID=America/Los_Angeles:20250329T100000
DTEND;TZID=America/Los_Angeles:20250329T140000
DTSTAMP:20260423T221726
CREATED:20250115T212757Z
LAST-MODIFIED:20250116T000306Z
UID:10002817-1743242400-1743256800@pnwmg.mastergardenerfoundation.org
SUMMARY:Plant Clinic
DESCRIPTION:3\29 hoquim library 10am-2pm\n4\5 west port winery mermaid festival 10am -2pm\n4\12 west port winery mermaid festival 10am-2pm\n4\19 west port winery mermaid festival 10am-2pm\n4\25 west port winery mermaid festival 10am-2pm\n5\10 home depot aberdeen 9am-4pm\n5\10 bay view lumber elma 10am-2pm\n5\10 mg plant sale 86 rustemeyer rd 9am-3pm\n5\17 home and garden show 10am-5pm\n5\18 home and garden show 10am-4pm \nyes\, contact lou to schedule
URL:https://pnwmg.mastergardenerfoundation.org/event/plant-clinic-5/
LOCATION:Hoquiam Timberland Regional Library\, 420 7th Street\, Hoquiam\, 98550\, United States
CATEGORIES:Volunteer
ORGANIZER;CN="Scott and Lou Clark":MAILTO:northwoods1105@gmail.com
END:VEVENT
BEGIN:VEVENT
DTSTART;TZID=America/Los_Angeles:20241027T080000
DTEND;TZID=America/Los_Angeles:20241027T170000
DTSTAMP:20260423T221726
CREATED:20241017T211308Z
LAST-MODIFIED:20241017T211308Z
UID:10002359-1730016000-1730048400@pnwmg.mastergardenerfoundation.org
SUMMARY:Sunday\, October 27th:  	GGH Plant Clinic at the Wishkah School (No Volunteers Required)
DESCRIPTION:Content is protected.
URL:https://pnwmg.mastergardenerfoundation.org/event/sunday-october-27th-ggh-plant-clinic-at-the-wishkah-school-no-volunteers-required/
LOCATION:Wishkah Valley School District\, 4640 Wishkah Road\, Aberdeen\, 98520
CATEGORIES:Volunteer
ORGANIZER;CN="Scott and Lou Clark":MAILTO:northwoods1105@gmail.com
END:VEVENT
BEGIN:VEVENT
DTSTART;TZID=America/Los_Angeles:20240615T110000
DTEND;TZID=America/Los_Angeles:20240615T150000
DTSTAMP:20260423T221726
CREATED:20240501T032230Z
LAST-MODIFIED:20240501T032230Z
UID:10001979-1718449200-1718463600@pnwmg.mastergardenerfoundation.org
SUMMARY:Saturday\, June 15th:  Plant Clinic at Bayview Building Materials in Elma
DESCRIPTION:Content is protected.
URL:https://pnwmg.mastergardenerfoundation.org/event/saturday-june-15th-plant-clinic-at-bayview-building-materials-in-elma/
LOCATION:Bayview Building Material – Elma\, 620 E Young St.\, Elma\, WA\, 98541\, United States
CATEGORIES:Volunteer
ORGANIZER;CN="Scott and Lou Clark":MAILTO:northwoods1105@gmail.com
END:VEVENT
BEGIN:VEVENT
DTSTART;TZID=America/Los_Angeles:20240526T100000
DTEND;TZID=America/Los_Angeles:20240526T150000
DTSTAMP:20260423T221726
CREATED:20240501T040215Z
LAST-MODIFIED:20240501T040215Z
UID:10002000-1716717600-1716735600@pnwmg.mastergardenerfoundation.org
SUMMARY:Sunday\, May 26th:  Plant Clinic at Aberdeen Sunday Market
DESCRIPTION:Content is protected.
URL:https://pnwmg.mastergardenerfoundation.org/event/sunday-may-26th-plant-clinic-at-aberdeen-sunday-market/
LOCATION:Aberdeen Sunday Market\, West Heron and South Broadway\, Aberdeen\, WA\, 98520\, United States
CATEGORIES:Volunteer
ORGANIZER;CN="Scott and Lou Clark":MAILTO:northwoods1105@gmail.com
END:VEVENT
BEGIN:VEVENT
DTSTART;TZID=America/Los_Angeles:20240511T100000
DTEND;TZID=America/Los_Angeles:20240511T150000
DTSTAMP:20260423T221726
CREATED:20240222T025816Z
LAST-MODIFIED:20240222T025816Z
UID:10001758-1715421600-1715439600@pnwmg.mastergardenerfoundation.org
SUMMARY:Saturday\, May 11th:  Plant Clinic at the Home Depot in Aberdeen
DESCRIPTION:Content is protected.
URL:https://pnwmg.mastergardenerfoundation.org/event/saturday-may-11th-plant-clinic-at-the-home-depot-in-aberdeen/
LOCATION:Home Depot in Aberdeen\, 2213 Port Industrial Road\, Aberdeen\, WA\, 98520\, United States
CATEGORIES:Volunteer
ORGANIZER;CN="Scott and Lou Clark":MAILTO:northwoods1105@gmail.com
END:VEVENT
BEGIN:VEVENT
DTSTART;TZID=America/Los_Angeles:20240420T100000
DTEND;TZID=America/Los_Angeles:20240420T160000
DTSTAMP:20260423T221726
CREATED:20240222T030647Z
LAST-MODIFIED:20240222T030647Z
UID:10001759-1713607200-1713628800@pnwmg.mastergardenerfoundation.org
SUMMARY:Saturday\, April 20th:  Plant Clinic at the Hoquiam Library
DESCRIPTION:Content is protected.
URL:https://pnwmg.mastergardenerfoundation.org/event/saturday-april-20th-plant-clinic-at-the-hoquiam-library/
LOCATION:Hoquiam Timberland Regional Library\, 420 7th Street\, Hoquiam\, 98550\, United States
CATEGORIES:Volunteer
ORGANIZER;CN="Scott and Lou Clark":MAILTO:northwoods1105@gmail.com
END:VEVENT
BEGIN:VEVENT
DTSTART;TZID=America/Los_Angeles:20240406T110000
DTEND;TZID=America/Los_Angeles:20240406T160000
DTSTAMP:20260423T221726
CREATED:20240222T024840Z
LAST-MODIFIED:20240222T024840Z
UID:10001757-1712401200-1712419200@pnwmg.mastergardenerfoundation.org
SUMMARY:Saturday\, April 6th:  Plant Clinic at the Westport Winery
DESCRIPTION:Content is protected.
URL:https://pnwmg.mastergardenerfoundation.org/event/saturday-april-6th-plant-clinic-at-the-westport-winery/
LOCATION:Westport Winery\, 1 South Arbor Road\, Aberdeen\, WA\, United States
CATEGORIES:Volunteer
ORGANIZER;CN="Scott and Lou Clark":MAILTO:northwoods1105@gmail.com
END:VEVENT
BEGIN:VEVENT
DTSTART;TZID=America/Los_Angeles:20240326T170000
DTEND;TZID=America/Los_Angeles:20240326T190000
DTSTAMP:20260423T221726
CREATED:20240313T023437Z
LAST-MODIFIED:20240313T023437Z
UID:10001773-1711472400-1711479600@pnwmg.mastergardenerfoundation.org
SUMMARY:Tuesday\, March 26th:  Plant Clinic in Aberdeen
DESCRIPTION:Content is protected.
URL:https://pnwmg.mastergardenerfoundation.org/event/tuesday-march-26th-plant-clinic-in-aberdeen/
LOCATION:Wishkah Valley School District\, 4640 Wishkah Road\, Aberdeen\, 98520
CATEGORIES:Volunteer
ORGANIZER;CN="Scott and Lou Clark":MAILTO:northwoods1105@gmail.com
END:VEVENT
END:VCALENDAR