BEGIN:VCALENDAR
VERSION:2.0
PRODID:-//Master Gardener Foundation of Grays Harbor and Pacific Counties - ECPv6.15.20//NONSGML v1.0//EN
CALSCALE:GREGORIAN
METHOD:PUBLISH
X-WR-CALNAME:Master Gardener Foundation of Grays Harbor and Pacific Counties
X-ORIGINAL-URL:https://pnwmg.mastergardenerfoundation.org
X-WR-CALDESC:Events for Master Gardener Foundation of Grays Harbor and Pacific Counties
REFRESH-INTERVAL;VALUE=DURATION:PT1H
X-Robots-Tag:noindex
X-PUBLISHED-TTL:PT1H
BEGIN:VTIMEZONE
TZID:America/Los_Angeles
BEGIN:DAYLIGHT
TZOFFSETFROM:-0800
TZOFFSETTO:-0700
TZNAME:PDT
DTSTART:20230312T100000
END:DAYLIGHT
BEGIN:STANDARD
TZOFFSETFROM:-0700
TZOFFSETTO:-0800
TZNAME:PST
DTSTART:20231105T090000
END:STANDARD
BEGIN:DAYLIGHT
TZOFFSETFROM:-0800
TZOFFSETTO:-0700
TZNAME:PDT
DTSTART:20240310T100000
END:DAYLIGHT
BEGIN:STANDARD
TZOFFSETFROM:-0700
TZOFFSETTO:-0800
TZNAME:PST
DTSTART:20241103T090000
END:STANDARD
BEGIN:DAYLIGHT
TZOFFSETFROM:-0800
TZOFFSETTO:-0700
TZNAME:PDT
DTSTART:20250309T100000
END:DAYLIGHT
BEGIN:STANDARD
TZOFFSETFROM:-0700
TZOFFSETTO:-0800
TZNAME:PST
DTSTART:20251102T090000
END:STANDARD
END:VTIMEZONE
BEGIN:VEVENT
DTSTART;TZID=America/Los_Angeles:20241004T120000
DTEND;TZID=America/Los_Angeles:20241004T150000
DTSTAMP:20260424T013731
CREATED:20240918T030213Z
LAST-MODIFIED:20240918T031706Z
UID:10002318-1728043200-1728054000@pnwmg.mastergardenerfoundation.org
SUMMARY:Plant Clinic - Roger Saux Health Center\, Taholah
DESCRIPTION:The Master Gardeners of Grays Harbor and Pacific Counties will be hosting a Plant Clinic on October 4th from 12:00 noon to 3:00 p.m. at the Autumn Celebration in Taholah. \nCommon questions for the Master Gardener volunteers are: \n\nWhat plants grow best in the Pacific Northwest?\nWhat can I grow in the maritime environment?\nHow can I test my soil?\nWhat will I have problems growing where I live?\n\nTo help us better diagnose a plant problem\, please try to share as much of the following information as possible: \n\nThe type of damage are you seeing and when it start\nThe parts of the plant that are affected: flower\, leaf\, stem\, fruit\, etc.\nHow is the plant watered and the amount and frequency of watering\nThe location of the plant ; in a garden bed or in the lawn\, next to a driveway or house\, in full or part sun\, the direction the plant faces\, etc.\n\nSharing photographs of your plant problem\, plant identification or insect identification is helpful. Please bring a sample if possible. To learn about preparing samples for diagnosis\, please see Preparing Your Specimens for the Plant Clinic.
URL:https://pnwmg.mastergardenerfoundation.org/event/plant-clinic-roger-saux-health-center-taholah/
LOCATION:Roger Saux Health Center\, 1505 Kla-Ook-Wa Dr.\, Taholah\, WA\, 98587\, United States
CATEGORIES:Public
ORGANIZER;CN="Sushila Ravard":MAILTO:sjravard@gmail.com
END:VEVENT
BEGIN:VEVENT
DTSTART;TZID=America/Los_Angeles:20241020T130000
DTEND;TZID=America/Los_Angeles:20241020T150000
DTSTAMP:20260424T013731
CREATED:20240912T054857Z
LAST-MODIFIED:20240912T054857Z
UID:10002317-1729429200-1729436400@pnwmg.mastergardenerfoundation.org
SUMMARY:Seed Savers Harvest Celebration
DESCRIPTION:Our Seed Savers Harvest Celebration is a FREE annual event for the community held at the Master Gardener Demonstration Garden inside the Grays Harbor County Fairgrounds. \nThe event will be held Sunday\, October 20th from 1 p.m. to 3 p.m. and all activities will be on-going during these 2 hours. Visitors can come anytime between 1 and 3 p.m. but be aware that early visitors will have the most diverse variety of plant materials from which to choose. We will have some boxes available to tote plants & all home\, but you are welcome to bring your own box or bag if you like. \nThe Master Gardeners will be sharing the bounty of our demonstration garden and some from our home gardens. Here are some of the activities we hope to share with you: free flower seed\, free plants\, free dried plant material (for flower arrangements or ?)\, gardening information\, demonstrations on tool sharpening\, and activities for kids & kids-at-heart. \nWe love sharing the bounty from our garden with you. Join us and take home something fun to put in your own garden. \nWe are focused on plants that support native insects and other life forms. Please feel free to ask us about these vital plants that support life on our planet. \n \n\nReasonable accommodations will be made for persons with disabilities and special needs. Please make all requests to WSU Extension (360) 875-9331 at least two weeks prior to the event. \nWSU Extension programs and employment are available without discrimination. Evidence of noncompliance may be reported through your local WSU Extension office. \nCooperating agencies: Washington State University\, U.S. Department of Agriculture\, and Grays Harbor and Pacific Counties.
URL:https://pnwmg.mastergardenerfoundation.org/event/seed-savers-harvest-celebration/
LOCATION:Grays Harbor County Fairgrounds – Demonstration Garden\, 32 Elma McCleary Road\, Elma\, WA\, 98541\, United States
CATEGORIES:Public
END:VEVENT
BEGIN:VEVENT
DTSTART;TZID=America/Los_Angeles:20241027T100000
DTEND;TZID=America/Los_Angeles:20241027T140000
DTSTAMP:20260424T013731
CREATED:20241019T214614Z
LAST-MODIFIED:20241019T215455Z
UID:10002376-1730023200-1730037600@pnwmg.mastergardenerfoundation.org
SUMMARY:Plant Clinic -  Wishkah Valley School
DESCRIPTION:The WSU Master Gardeners of Grays Harbor and Pacific Counties are hosting a Plant Clinic at Wishkah Valley Elementary/High School\, on Sunday\, October 27th\, from 10:00 am to 2:00 pm as part of their Cheerleader Fundraiser. This will be a great opportunity to get your plant questions answered. This is a once-a-year event at Wishkah Valley School. \nCommon questions for the Master Gardener volunteers are: \n\nWhat plants grow best in the Pacific Northwest?\nWhat can I grow in the maritime environment?\nHow can I test my soil?\nWhat will I have problems growing where I live?\n\nTo help us better diagnose a plant problem\, please try to share as much of the following information as possible: \n\nThe type of damage are you seeing and when it start\nThe parts of the plant that are affected: flower\, leaf\, stem\, fruit\, etc.\nHow is the plant watered and the amount and frequency of watering\nThe location of the plant ; in a garden bed or in the lawn\, next to a driveway or house\, in full or part sun\, the direction the plant faces\, etc.\n\nSharing photographs of your plant problem\, plant identification or insect identification is helpful. Please bring a sample if possible. To learn about preparing samples for diagnosis\, please see Preparing Your Specimens for the Plant Clinic.
URL:https://pnwmg.mastergardenerfoundation.org/event/plant-clinic-wishkah-valley-school/
LOCATION:Wishkah Valley School District\, 4640 Wishkah Road\, Aberdeen\, 98520
CATEGORIES:Public
END:VEVENT
END:VCALENDAR