BEGIN:VCALENDAR
VERSION:2.0
PRODID:-//Master Gardener Foundation of Grays Harbor and Pacific Counties - ECPv6.15.20//NONSGML v1.0//EN
CALSCALE:GREGORIAN
METHOD:PUBLISH
X-WR-CALNAME:Master Gardener Foundation of Grays Harbor and Pacific Counties
X-ORIGINAL-URL:https://pnwmg.mastergardenerfoundation.org
X-WR-CALDESC:Events for Master Gardener Foundation of Grays Harbor and Pacific Counties
REFRESH-INTERVAL;VALUE=DURATION:PT1H
X-Robots-Tag:noindex
X-PUBLISHED-TTL:PT1H
BEGIN:VTIMEZONE
TZID:America/Los_Angeles
BEGIN:DAYLIGHT
TZOFFSETFROM:-0800
TZOFFSETTO:-0700
TZNAME:PDT
DTSTART:20230312T100000
END:DAYLIGHT
BEGIN:STANDARD
TZOFFSETFROM:-0700
TZOFFSETTO:-0800
TZNAME:PST
DTSTART:20231105T090000
END:STANDARD
BEGIN:DAYLIGHT
TZOFFSETFROM:-0800
TZOFFSETTO:-0700
TZNAME:PDT
DTSTART:20240310T100000
END:DAYLIGHT
BEGIN:STANDARD
TZOFFSETFROM:-0700
TZOFFSETTO:-0800
TZNAME:PST
DTSTART:20241103T090000
END:STANDARD
BEGIN:DAYLIGHT
TZOFFSETFROM:-0800
TZOFFSETTO:-0700
TZNAME:PDT
DTSTART:20250309T100000
END:DAYLIGHT
BEGIN:STANDARD
TZOFFSETFROM:-0700
TZOFFSETTO:-0800
TZNAME:PST
DTSTART:20251102T090000
END:STANDARD
END:VTIMEZONE
BEGIN:VEVENT
DTSTART;TZID=America/Los_Angeles:20240909T100000
DTEND;TZID=America/Los_Angeles:20240909T130000
DTSTAMP:20260420T021036
CREATED:20240408T010116Z
LAST-MODIFIED:20240408T052638Z
UID:10001907-1725876000-1725886800@pnwmg.mastergardenerfoundation.org
SUMMARY:Plant Clinic - WSU Extension Office - Pacific County
DESCRIPTION:The Master Gardeners of Grays Harbor and Pacific Counties will be hosting a Plant Clinic on the 2nd and 4th Mondays\, each month from April through September\, (except for Memorial Day\, May 27th)\, from 10:00 AM to 1 PM in South Bend at the WSU Extension Pacific County Office.\n  \n \nCommon questions for the Master Gardener volunteers are: \n\nWhat plants grow best in the Pacific Northwest?\nWhat can I grow in the maritime environment?\nHow can I test my soil?\nWhat will I have problems growing where I live?\n\nTo help us better diagnose a plant problem\, please try to share as much of the following information as possible: \n\nThe type of damage are you seeing and when it start\nThe parts of the plant that are affected: flower\, leaf\, stem\, fruit\, etc.\nHow is the plant watered and the amount and frequency of watering\nThe location of the plant ; in a garden bed or in the lawn\, next to a driveway or house\, in full or part sun\, the direction the plant faces\, etc.\n\nSharing photographs of your plant problem\, plant identification or insect identification is helpful. Please bring a sample if possible. To learn about preparing samples for diagnosis\, please see Preparing Your Specimens for the Plant Clinic.
URL:https://pnwmg.mastergardenerfoundation.org/event/plant-clinic-pac-ext-2024-1/2024-09-09/
LOCATION:WSU Extension Pacific County Office\, 1216 W. Robert Bush Drive\, South Bend\, WA\, 98586\, United States
CATEGORIES:Public
ORGANIZER;CN="Master Gardeners of Grays Harbor and Pacific Counties - Pacific County":MAILTO:pnwmg@yahoo.com
END:VEVENT
BEGIN:VEVENT
DTSTART;TZID=America/Los_Angeles:20240914T130000
DTEND;TZID=America/Los_Angeles:20240914T150000
DTSTAMP:20260420T021036
CREATED:20240902T215202Z
LAST-MODIFIED:20240908T232845Z
UID:10002313-1726318800-1726326000@pnwmg.mastergardenerfoundation.org
SUMMARY:Kokedama Workshop - Ocean Shores
DESCRIPTION:The Master Gardeners of Grays Harbor and Pacific Counties invite you to learn how to make Kokedamas\, Japanese “moss balls” in our workshop for adults. This unique and fun form of potting plants has been around for centuries. It is easy to do and makes great gifts!  \nPreregister at the Ocean Shores Public Library. Space is limited.  \nThis workshop is cosponsored with Garden by the Sea\, a Community Garden.
URL:https://pnwmg.mastergardenerfoundation.org/event/kokedama-workshop-os/
LOCATION:Ocean Shores Public LIbrary\, 573 Pt. Brown Ave NW\, Ocean Shores\, WA\, 98569\, United States
CATEGORIES:Public
END:VEVENT
BEGIN:VEVENT
DTSTART;TZID=America/Los_Angeles:20240923T100000
DTEND;TZID=America/Los_Angeles:20240923T130000
DTSTAMP:20260420T021036
CREATED:20240823T212344Z
LAST-MODIFIED:20240823T212345Z
UID:10001890-1727085600-1727096400@pnwmg.mastergardenerfoundation.org
SUMMARY:Plant Clinic - WSU Extension Office - Pacific County
DESCRIPTION:The Master Gardeners of Grays Harbor and Pacific Counties will be hosting a Plant Clinic on the 2nd and 4th Mondays\, each month from April through September\, (except for Memorial Day\, May 27th)\, from 10:00 AM to 1 PM in South Bend at the WSU Extension Pacific County Office.\n \nCommon questions for the Master Gardener volunteers are: \n\nWhat plants grow best in the Pacific Northwest?\nWhat can I grow in the maritime environment?\nHow can I test my soil?\nWhat will I have problems growing where I live?\n\nTo help us better diagnose a plant problem\, please try to share as much of the following information as possible: \n\nThe type of damage are you seeing and when it start\nThe parts of the plant that are affected: flower\, leaf\, stem\, fruit\, etc.\nHow is the plant watered and the amount and frequency of watering\nThe location of the plant ; in a garden bed or in the lawn\, next to a driveway or house\, in full or part sun\, the direction the plant faces\, etc.\n\nSharing photographs of your plant problem\, plant identification or insect identification is helpful. Please bring a sample if possible. To learn about preparing samples for diagnosis\, please see Preparing Your Specimens for the Plant Clinic.
URL:https://pnwmg.mastergardenerfoundation.org/event/plant-clinic-pacific-ext-24-2-2-2/
LOCATION:WSU Extension Pacific County Office\, 1216 W. Robert Bush Drive\, South Bend\, WA\, 98586\, United States
CATEGORIES:Public
ORGANIZER;CN="Master Gardeners of Grays Harbor and Pacific Counties - Pacific County":MAILTO:pnwmg@yahoo.com
END:VEVENT
END:VCALENDAR